BEGIN:VCALENDAR
VERSION:2.0
PRODID:-//Shavertown United Methodist Church - ECPv6.15.17.1//NONSGML v1.0//EN
CALSCALE:GREGORIAN
METHOD:PUBLISH
X-WR-CALNAME:Shavertown United Methodist Church
X-ORIGINAL-URL:https://www.shavertownumc.com
X-WR-CALDESC:Events for Shavertown United Methodist Church
REFRESH-INTERVAL;VALUE=DURATION:PT1H
X-Robots-Tag:noindex
X-PUBLISHED-TTL:PT1H
BEGIN:VTIMEZONE
TZID:America/New_York
BEGIN:DAYLIGHT
TZOFFSETFROM:-0500
TZOFFSETTO:-0400
TZNAME:EDT
DTSTART:20240310T070000
END:DAYLIGHT
BEGIN:STANDARD
TZOFFSETFROM:-0400
TZOFFSETTO:-0500
TZNAME:EST
DTSTART:20241103T060000
END:STANDARD
BEGIN:DAYLIGHT
TZOFFSETFROM:-0500
TZOFFSETTO:-0400
TZNAME:EDT
DTSTART:20250309T070000
END:DAYLIGHT
BEGIN:STANDARD
TZOFFSETFROM:-0400
TZOFFSETTO:-0500
TZNAME:EST
DTSTART:20251102T060000
END:STANDARD
BEGIN:DAYLIGHT
TZOFFSETFROM:-0500
TZOFFSETTO:-0400
TZNAME:EDT
DTSTART:20260308T070000
END:DAYLIGHT
BEGIN:STANDARD
TZOFFSETFROM:-0400
TZOFFSETTO:-0500
TZNAME:EST
DTSTART:20261101T060000
END:STANDARD
END:VTIMEZONE
BEGIN:VTIMEZONE
TZID:UTC
BEGIN:STANDARD
TZOFFSETFROM:+0000
TZOFFSETTO:+0000
TZNAME:UTC
DTSTART:20240101T000000
END:STANDARD
END:VTIMEZONE
BEGIN:VEVENT
DTSTART;TZID=America/New_York:20250401T100000
DTEND;TZID=America/New_York:20250401T110000
DTSTAMP:20260419T100234
CREATED:20171102T130534Z
LAST-MODIFIED:20171102T130534Z
UID:11383-1743501600-1743505200@www.shavertownumc.com
SUMMARY:Coffee and Conversation
DESCRIPTION:
URL:https://www.shavertownumc.com/event/coffee-and-conversation-2020-05-12-2025-04-01/
LOCATION:Shavertown United Methodist Church\, 163 N. Pioneer Avenue\, Shavertown\, PA\, 18708\, United States
CATEGORIES:Mission & Outreach
END:VEVENT
BEGIN:VEVENT
DTSTART;TZID=America/New_York:20250402T090000
DTEND;TZID=America/New_York:20250402T100000
DTSTAMP:20260419T100234
CREATED:20171102T131929Z
LAST-MODIFIED:20171102T131929Z
UID:11385-1743584400-1743588000@www.shavertownumc.com
SUMMARY:Prayer Group on Zoom
DESCRIPTION:
URL:https://www.shavertownumc.com/event/prayer-meeting-2025-04-02/
LOCATION:PA
END:VEVENT
BEGIN:VEVENT
DTSTART;TZID=UTC:20250405T173000
DTEND;TZID=UTC:20250405T183000
DTSTAMP:20260419T100234
CREATED:20171102T003157Z
LAST-MODIFIED:20171102T003157Z
UID:11386-1743874200-1743877800@www.shavertownumc.com
SUMMARY:Worship
DESCRIPTION:Informal Worship Service \nIf you are looking for a church home\, we invite you to join us for our informal worship service Saturdays at 5:30 p.m.
URL:https://www.shavertownumc.com/event/worship-2025-04-05/
LOCATION:Shavertown United Methodist Church\, 163 N. Pioneer Avenue\, Shavertown\, PA\, 18708\, United States
CATEGORIES:Saturday Evening Worship,Worship
END:VEVENT
BEGIN:VEVENT
DTSTART;TZID=America/New_York:20250406T093000
DTEND;TZID=America/New_York:20250406T103000
DTSTAMP:20260419T100234
CREATED:20171102T131100Z
LAST-MODIFIED:20171102T131100Z
UID:11403-1743931800-1743935400@www.shavertownumc.com
SUMMARY:Worship
DESCRIPTION:Worship Service \nIf you are looking for a church home\, we invite you to join us for our Sunday morning worship at 9:30 a.m.
URL:https://www.shavertownumc.com/event/worship-2-2025-04-06/
LOCATION:Shavertown United Methodist Church\, 163 N. Pioneer Avenue\, Shavertown\, PA\, 18708\, United States
CATEGORIES:Sunday Morning Worship,Worship
END:VEVENT
BEGIN:VEVENT
DTSTART;TZID=America/New_York:20250407T130000
DTEND;TZID=America/New_York:20250407T140000
DTSTAMP:20260419T100234
CREATED:20171102T140142Z
LAST-MODIFIED:20171102T140142Z
UID:11404-1744030800-1744034400@www.shavertownumc.com
SUMMARY:Women's Bible Study
DESCRIPTION:
URL:https://www.shavertownumc.com/event/womens-bible-study-2020-05-11-2025-04-07/
LOCATION:Shavertown United Methodist Church\, 163 N. Pioneer Avenue\, Shavertown\, PA\, 18708\, United States
CATEGORIES:Bible Study
END:VEVENT
BEGIN:VEVENT
DTSTART;TZID=America/New_York:20250408T100000
DTEND;TZID=America/New_York:20250408T110000
DTSTAMP:20260419T100234
CREATED:20171102T130534Z
LAST-MODIFIED:20171102T130534Z
UID:11405-1744106400-1744110000@www.shavertownumc.com
SUMMARY:Coffee and Conversation
DESCRIPTION:
URL:https://www.shavertownumc.com/event/coffee-and-conversation-2020-05-12-2025-04-08/
LOCATION:Shavertown United Methodist Church\, 163 N. Pioneer Avenue\, Shavertown\, PA\, 18708\, United States
CATEGORIES:Mission & Outreach
END:VEVENT
BEGIN:VEVENT
DTSTART;TZID=America/New_York:20250409T090000
DTEND;TZID=America/New_York:20250409T100000
DTSTAMP:20260419T100234
CREATED:20171102T131929Z
LAST-MODIFIED:20171102T131929Z
UID:11407-1744189200-1744192800@www.shavertownumc.com
SUMMARY:Prayer Group on Zoom
DESCRIPTION:
URL:https://www.shavertownumc.com/event/prayer-meeting-2025-04-09/
LOCATION:PA
END:VEVENT
BEGIN:VEVENT
DTSTART;TZID=UTC:20250412T173000
DTEND;TZID=UTC:20250412T183000
DTSTAMP:20260419T100234
CREATED:20171102T003157Z
LAST-MODIFIED:20171102T003157Z
UID:11408-1744479000-1744482600@www.shavertownumc.com
SUMMARY:Worship
DESCRIPTION:Informal Worship Service \nIf you are looking for a church home\, we invite you to join us for our informal worship service Saturdays at 5:30 p.m.
URL:https://www.shavertownumc.com/event/worship-2025-04-12/
LOCATION:Shavertown United Methodist Church\, 163 N. Pioneer Avenue\, Shavertown\, PA\, 18708\, United States
CATEGORIES:Saturday Evening Worship,Worship
END:VEVENT
BEGIN:VEVENT
DTSTART;TZID=America/New_York:20250413T093000
DTEND;TZID=America/New_York:20250413T103000
DTSTAMP:20260419T100234
CREATED:20171102T131100Z
LAST-MODIFIED:20171102T131100Z
UID:11409-1744536600-1744540200@www.shavertownumc.com
SUMMARY:Worship
DESCRIPTION:Worship Service \nIf you are looking for a church home\, we invite you to join us for our Sunday morning worship at 9:30 a.m.
URL:https://www.shavertownumc.com/event/worship-2-2025-04-13/
LOCATION:Shavertown United Methodist Church\, 163 N. Pioneer Avenue\, Shavertown\, PA\, 18708\, United States
CATEGORIES:Sunday Morning Worship,Worship
END:VEVENT
BEGIN:VEVENT
DTSTART;TZID=America/New_York:20250414T130000
DTEND;TZID=America/New_York:20250414T140000
DTSTAMP:20260419T100234
CREATED:20171102T140142Z
LAST-MODIFIED:20171102T140142Z
UID:11423-1744635600-1744639200@www.shavertownumc.com
SUMMARY:Women's Bible Study
DESCRIPTION:
URL:https://www.shavertownumc.com/event/womens-bible-study-2020-05-11-2025-04-14/
LOCATION:Shavertown United Methodist Church\, 163 N. Pioneer Avenue\, Shavertown\, PA\, 18708\, United States
CATEGORIES:Bible Study
END:VEVENT
BEGIN:VEVENT
DTSTART;TZID=America/New_York:20250415T100000
DTEND;TZID=America/New_York:20250415T110000
DTSTAMP:20260419T100234
CREATED:20171102T130534Z
LAST-MODIFIED:20171102T130534Z
UID:11425-1744711200-1744714800@www.shavertownumc.com
SUMMARY:Coffee and Conversation
DESCRIPTION:
URL:https://www.shavertownumc.com/event/coffee-and-conversation-2020-05-12-2025-04-15/
LOCATION:Shavertown United Methodist Church\, 163 N. Pioneer Avenue\, Shavertown\, PA\, 18708\, United States
CATEGORIES:Mission & Outreach
END:VEVENT
BEGIN:VEVENT
DTSTART;TZID=America/New_York:20250416T090000
DTEND;TZID=America/New_York:20250416T100000
DTSTAMP:20260419T100234
CREATED:20171102T131929Z
LAST-MODIFIED:20171102T131929Z
UID:11427-1744794000-1744797600@www.shavertownumc.com
SUMMARY:Prayer Group on Zoom
DESCRIPTION:
URL:https://www.shavertownumc.com/event/prayer-meeting-2025-04-16/
LOCATION:PA
END:VEVENT
BEGIN:VEVENT
DTSTART;TZID=UTC:20250419T173000
DTEND;TZID=UTC:20250419T183000
DTSTAMP:20260419T100234
CREATED:20171102T003157Z
LAST-MODIFIED:20171102T003157Z
UID:11429-1745083800-1745087400@www.shavertownumc.com
SUMMARY:Worship
DESCRIPTION:Informal Worship Service \nIf you are looking for a church home\, we invite you to join us for our informal worship service Saturdays at 5:30 p.m.
URL:https://www.shavertownumc.com/event/worship-2025-04-19/
LOCATION:Shavertown United Methodist Church\, 163 N. Pioneer Avenue\, Shavertown\, PA\, 18708\, United States
CATEGORIES:Saturday Evening Worship,Worship
END:VEVENT
BEGIN:VEVENT
DTSTART;TZID=America/New_York:20250420T093000
DTEND;TZID=America/New_York:20250420T103000
DTSTAMP:20260419T100234
CREATED:20171102T131100Z
LAST-MODIFIED:20171102T131100Z
UID:11433-1745141400-1745145000@www.shavertownumc.com
SUMMARY:Worship
DESCRIPTION:Worship Service \nIf you are looking for a church home\, we invite you to join us for our Sunday morning worship at 9:30 a.m.
URL:https://www.shavertownumc.com/event/worship-2-2025-04-20/
LOCATION:Shavertown United Methodist Church\, 163 N. Pioneer Avenue\, Shavertown\, PA\, 18708\, United States
CATEGORIES:Sunday Morning Worship,Worship
END:VEVENT
BEGIN:VEVENT
DTSTART;TZID=America/New_York:20250421T130000
DTEND;TZID=America/New_York:20250421T140000
DTSTAMP:20260419T100234
CREATED:20171102T140142Z
LAST-MODIFIED:20171102T140142Z
UID:11434-1745240400-1745244000@www.shavertownumc.com
SUMMARY:Women's Bible Study
DESCRIPTION:
URL:https://www.shavertownumc.com/event/womens-bible-study-2020-05-11-2025-04-21/
LOCATION:Shavertown United Methodist Church\, 163 N. Pioneer Avenue\, Shavertown\, PA\, 18708\, United States
CATEGORIES:Bible Study
END:VEVENT
BEGIN:VEVENT
DTSTART;TZID=America/New_York:20250422T100000
DTEND;TZID=America/New_York:20250422T110000
DTSTAMP:20260419T100234
CREATED:20171102T130534Z
LAST-MODIFIED:20171102T130534Z
UID:11436-1745316000-1745319600@www.shavertownumc.com
SUMMARY:Coffee and Conversation
DESCRIPTION:
URL:https://www.shavertownumc.com/event/coffee-and-conversation-2020-05-12-2025-04-22/
LOCATION:Shavertown United Methodist Church\, 163 N. Pioneer Avenue\, Shavertown\, PA\, 18708\, United States
CATEGORIES:Mission & Outreach
END:VEVENT
BEGIN:VEVENT
DTSTART;TZID=America/New_York:20250423T090000
DTEND;TZID=America/New_York:20250423T100000
DTSTAMP:20260419T100234
CREATED:20171102T131929Z
LAST-MODIFIED:20171102T131929Z
UID:11438-1745398800-1745402400@www.shavertownumc.com
SUMMARY:Prayer Group on Zoom
DESCRIPTION:
URL:https://www.shavertownumc.com/event/prayer-meeting-2025-04-23/
LOCATION:PA
END:VEVENT
BEGIN:VEVENT
DTSTART;TZID=UTC:20250426T173000
DTEND;TZID=UTC:20250426T183000
DTSTAMP:20260419T100234
CREATED:20171102T003157Z
LAST-MODIFIED:20171102T003157Z
UID:11444-1745688600-1745692200@www.shavertownumc.com
SUMMARY:Worship
DESCRIPTION:Informal Worship Service \nIf you are looking for a church home\, we invite you to join us for our informal worship service Saturdays at 5:30 p.m.
URL:https://www.shavertownumc.com/event/worship-2025-04-26/
LOCATION:Shavertown United Methodist Church\, 163 N. Pioneer Avenue\, Shavertown\, PA\, 18708\, United States
CATEGORIES:Saturday Evening Worship,Worship
END:VEVENT
BEGIN:VEVENT
DTSTART;TZID=America/New_York:20250427T093000
DTEND;TZID=America/New_York:20250427T103000
DTSTAMP:20260419T100234
CREATED:20171102T131100Z
LAST-MODIFIED:20171102T131100Z
UID:11448-1745746200-1745749800@www.shavertownumc.com
SUMMARY:Worship
DESCRIPTION:Worship Service \nIf you are looking for a church home\, we invite you to join us for our Sunday morning worship at 9:30 a.m.
URL:https://www.shavertownumc.com/event/worship-2-2025-04-27/
LOCATION:Shavertown United Methodist Church\, 163 N. Pioneer Avenue\, Shavertown\, PA\, 18708\, United States
CATEGORIES:Sunday Morning Worship,Worship
END:VEVENT
BEGIN:VEVENT
DTSTART;TZID=America/New_York:20250428T130000
DTEND;TZID=America/New_York:20250428T140000
DTSTAMP:20260419T100234
CREATED:20171102T140142Z
LAST-MODIFIED:20171102T140142Z
UID:11470-1745845200-1745848800@www.shavertownumc.com
SUMMARY:Women's Bible Study
DESCRIPTION:
URL:https://www.shavertownumc.com/event/womens-bible-study-2020-05-11-2025-04-28/
LOCATION:Shavertown United Methodist Church\, 163 N. Pioneer Avenue\, Shavertown\, PA\, 18708\, United States
CATEGORIES:Bible Study
END:VEVENT
BEGIN:VEVENT
DTSTART;TZID=America/New_York:20250429T100000
DTEND;TZID=America/New_York:20250429T110000
DTSTAMP:20260419T100234
CREATED:20171102T130534Z
LAST-MODIFIED:20171102T130534Z
UID:11471-1745920800-1745924400@www.shavertownumc.com
SUMMARY:Coffee and Conversation
DESCRIPTION:
URL:https://www.shavertownumc.com/event/coffee-and-conversation-2020-05-12-2025-04-29/
LOCATION:Shavertown United Methodist Church\, 163 N. Pioneer Avenue\, Shavertown\, PA\, 18708\, United States
CATEGORIES:Mission & Outreach
END:VEVENT
BEGIN:VEVENT
DTSTART;TZID=America/New_York:20250430T090000
DTEND;TZID=America/New_York:20250430T100000
DTSTAMP:20260419T100234
CREATED:20171102T131929Z
LAST-MODIFIED:20171102T131929Z
UID:11473-1746003600-1746007200@www.shavertownumc.com
SUMMARY:Prayer Group on Zoom
DESCRIPTION:
URL:https://www.shavertownumc.com/event/prayer-meeting-2025-04-30/
LOCATION:PA
END:VEVENT
END:VCALENDAR