BEGIN:VCALENDAR
VERSION:2.0
PRODID:-//Shavertown United Methodist Church - ECPv6.15.17.1//NONSGML v1.0//EN
CALSCALE:GREGORIAN
METHOD:PUBLISH
X-WR-CALNAME:Shavertown United Methodist Church
X-ORIGINAL-URL:https://www.shavertownumc.com
X-WR-CALDESC:Events for Shavertown United Methodist Church
REFRESH-INTERVAL;VALUE=DURATION:PT1H
X-Robots-Tag:noindex
X-PUBLISHED-TTL:PT1H
BEGIN:VTIMEZONE
TZID:America/New_York
BEGIN:DAYLIGHT
TZOFFSETFROM:-0500
TZOFFSETTO:-0400
TZNAME:EDT
DTSTART:20240310T070000
END:DAYLIGHT
BEGIN:STANDARD
TZOFFSETFROM:-0400
TZOFFSETTO:-0500
TZNAME:EST
DTSTART:20241103T060000
END:STANDARD
BEGIN:DAYLIGHT
TZOFFSETFROM:-0500
TZOFFSETTO:-0400
TZNAME:EDT
DTSTART:20250309T070000
END:DAYLIGHT
BEGIN:STANDARD
TZOFFSETFROM:-0400
TZOFFSETTO:-0500
TZNAME:EST
DTSTART:20251102T060000
END:STANDARD
BEGIN:DAYLIGHT
TZOFFSETFROM:-0500
TZOFFSETTO:-0400
TZNAME:EDT
DTSTART:20260308T070000
END:DAYLIGHT
BEGIN:STANDARD
TZOFFSETFROM:-0400
TZOFFSETTO:-0500
TZNAME:EST
DTSTART:20261101T060000
END:STANDARD
END:VTIMEZONE
BEGIN:VTIMEZONE
TZID:UTC
BEGIN:STANDARD
TZOFFSETFROM:+0000
TZOFFSETTO:+0000
TZNAME:UTC
DTSTART:20240101T000000
END:STANDARD
END:VTIMEZONE
BEGIN:VEVENT
DTSTART;TZID=America/New_York:20250324T130000
DTEND;TZID=America/New_York:20250324T140000
DTSTAMP:20260419T181448
CREATED:20171102T140142Z
LAST-MODIFIED:20171102T140142Z
UID:11353-1742821200-1742824800@www.shavertownumc.com
SUMMARY:Women's Bible Study
DESCRIPTION:
URL:https://www.shavertownumc.com/event/womens-bible-study-2020-05-11-2025-03-24/
LOCATION:Shavertown United Methodist Church\, 163 N. Pioneer Avenue\, Shavertown\, PA\, 18708\, United States
CATEGORIES:Bible Study
END:VEVENT
BEGIN:VEVENT
DTSTART;TZID=America/New_York:20250323T093000
DTEND;TZID=America/New_York:20250323T103000
DTSTAMP:20260419T181448
CREATED:20171102T131100Z
LAST-MODIFIED:20171102T131100Z
UID:11351-1742722200-1742725800@www.shavertownumc.com
SUMMARY:Worship
DESCRIPTION:Worship Service \nIf you are looking for a church home\, we invite you to join us for our Sunday morning worship at 9:30 a.m.
URL:https://www.shavertownumc.com/event/worship-2-2025-03-23/
LOCATION:Shavertown United Methodist Church\, 163 N. Pioneer Avenue\, Shavertown\, PA\, 18708\, United States
CATEGORIES:Sunday Morning Worship,Worship
END:VEVENT
BEGIN:VEVENT
DTSTART;TZID=UTC:20250322T173000
DTEND;TZID=UTC:20250322T183000
DTSTAMP:20260419T181448
CREATED:20171102T003157Z
LAST-MODIFIED:20171102T003157Z
UID:11350-1742664600-1742668200@www.shavertownumc.com
SUMMARY:Worship
DESCRIPTION:Informal Worship Service \nIf you are looking for a church home\, we invite you to join us for our informal worship service Saturdays at 5:30 p.m.
URL:https://www.shavertownumc.com/event/worship-2025-03-22/
LOCATION:Shavertown United Methodist Church\, 163 N. Pioneer Avenue\, Shavertown\, PA\, 18708\, United States
CATEGORIES:Saturday Evening Worship,Worship
END:VEVENT
BEGIN:VEVENT
DTSTART;TZID=America/New_York:20250319T090000
DTEND;TZID=America/New_York:20250319T100000
DTSTAMP:20260419T181448
CREATED:20171102T131929Z
LAST-MODIFIED:20171102T131929Z
UID:11348-1742374800-1742378400@www.shavertownumc.com
SUMMARY:Prayer Group on Zoom
DESCRIPTION:
URL:https://www.shavertownumc.com/event/prayer-meeting-2025-03-19/
LOCATION:PA
END:VEVENT
BEGIN:VEVENT
DTSTART;TZID=America/New_York:20250318T100000
DTEND;TZID=America/New_York:20250318T110000
DTSTAMP:20260419T181448
CREATED:20171102T130534Z
LAST-MODIFIED:20171102T130534Z
UID:11346-1742292000-1742295600@www.shavertownumc.com
SUMMARY:Coffee and Conversation
DESCRIPTION:
URL:https://www.shavertownumc.com/event/coffee-and-conversation-2020-05-12-2025-03-18/
LOCATION:Shavertown United Methodist Church\, 163 N. Pioneer Avenue\, Shavertown\, PA\, 18708\, United States
CATEGORIES:Mission & Outreach
END:VEVENT
BEGIN:VEVENT
DTSTART;TZID=America/New_York:20250317T130000
DTEND;TZID=America/New_York:20250317T140000
DTSTAMP:20260419T181448
CREATED:20171102T140142Z
LAST-MODIFIED:20171102T140142Z
UID:11345-1742216400-1742220000@www.shavertownumc.com
SUMMARY:Women's Bible Study
DESCRIPTION:
URL:https://www.shavertownumc.com/event/womens-bible-study-2020-05-11-2025-03-17/
LOCATION:Shavertown United Methodist Church\, 163 N. Pioneer Avenue\, Shavertown\, PA\, 18708\, United States
CATEGORIES:Bible Study
END:VEVENT
BEGIN:VEVENT
DTSTART;TZID=America/New_York:20250316T093000
DTEND;TZID=America/New_York:20250316T103000
DTSTAMP:20260419T181448
CREATED:20171102T131100Z
LAST-MODIFIED:20171102T131100Z
UID:11344-1742117400-1742121000@www.shavertownumc.com
SUMMARY:Worship
DESCRIPTION:Worship Service \nIf you are looking for a church home\, we invite you to join us for our Sunday morning worship at 9:30 a.m.
URL:https://www.shavertownumc.com/event/worship-2-2025-03-16/
LOCATION:Shavertown United Methodist Church\, 163 N. Pioneer Avenue\, Shavertown\, PA\, 18708\, United States
CATEGORIES:Sunday Morning Worship,Worship
END:VEVENT
BEGIN:VEVENT
DTSTART;TZID=UTC:20250315T173000
DTEND;TZID=UTC:20250315T183000
DTSTAMP:20260419T181448
CREATED:20171102T003157Z
LAST-MODIFIED:20171102T003157Z
UID:11340-1742059800-1742063400@www.shavertownumc.com
SUMMARY:Worship
DESCRIPTION:Informal Worship Service \nIf you are looking for a church home\, we invite you to join us for our informal worship service Saturdays at 5:30 p.m.
URL:https://www.shavertownumc.com/event/worship-2025-03-15/
LOCATION:Shavertown United Methodist Church\, 163 N. Pioneer Avenue\, Shavertown\, PA\, 18708\, United States
CATEGORIES:Saturday Evening Worship,Worship
END:VEVENT
BEGIN:VEVENT
DTSTART;TZID=America/New_York:20250312T090000
DTEND;TZID=America/New_York:20250312T100000
DTSTAMP:20260419T181448
CREATED:20171102T131929Z
LAST-MODIFIED:20171102T131929Z
UID:11339-1741770000-1741773600@www.shavertownumc.com
SUMMARY:Prayer Group on Zoom
DESCRIPTION:
URL:https://www.shavertownumc.com/event/prayer-meeting-2025-03-12/
LOCATION:PA
END:VEVENT
BEGIN:VEVENT
DTSTART;TZID=America/New_York:20250311T100000
DTEND;TZID=America/New_York:20250311T110000
DTSTAMP:20260419T181448
CREATED:20171102T130534Z
LAST-MODIFIED:20171102T130534Z
UID:11335-1741687200-1741690800@www.shavertownumc.com
SUMMARY:Coffee and Conversation
DESCRIPTION:
URL:https://www.shavertownumc.com/event/coffee-and-conversation-2020-05-12-2025-03-11/
LOCATION:Shavertown United Methodist Church\, 163 N. Pioneer Avenue\, Shavertown\, PA\, 18708\, United States
CATEGORIES:Mission & Outreach
END:VEVENT
BEGIN:VEVENT
DTSTART;TZID=America/New_York:20250310T130000
DTEND;TZID=America/New_York:20250310T140000
DTSTAMP:20260419T181448
CREATED:20171102T140142Z
LAST-MODIFIED:20171102T140142Z
UID:11334-1741611600-1741615200@www.shavertownumc.com
SUMMARY:Women's Bible Study
DESCRIPTION:
URL:https://www.shavertownumc.com/event/womens-bible-study-2020-05-11-2025-03-10/
LOCATION:Shavertown United Methodist Church\, 163 N. Pioneer Avenue\, Shavertown\, PA\, 18708\, United States
CATEGORIES:Bible Study
END:VEVENT
BEGIN:VEVENT
DTSTART;TZID=America/New_York:20250309T093000
DTEND;TZID=America/New_York:20250309T103000
DTSTAMP:20260419T181448
CREATED:20171102T131100Z
LAST-MODIFIED:20171102T131100Z
UID:11333-1741512600-1741516200@www.shavertownumc.com
SUMMARY:Worship
DESCRIPTION:Worship Service \nIf you are looking for a church home\, we invite you to join us for our Sunday morning worship at 9:30 a.m.
URL:https://www.shavertownumc.com/event/worship-2-2025-03-09/
LOCATION:Shavertown United Methodist Church\, 163 N. Pioneer Avenue\, Shavertown\, PA\, 18708\, United States
CATEGORIES:Sunday Morning Worship,Worship
END:VEVENT
BEGIN:VEVENT
DTSTART;TZID=UTC:20250308T173000
DTEND;TZID=UTC:20250308T183000
DTSTAMP:20260419T181448
CREATED:20171102T003157Z
LAST-MODIFIED:20171102T003157Z
UID:11328-1741455000-1741458600@www.shavertownumc.com
SUMMARY:Worship
DESCRIPTION:Informal Worship Service \nIf you are looking for a church home\, we invite you to join us for our informal worship service Saturdays at 5:30 p.m.
URL:https://www.shavertownumc.com/event/worship-2025-03-08/
LOCATION:Shavertown United Methodist Church\, 163 N. Pioneer Avenue\, Shavertown\, PA\, 18708\, United States
CATEGORIES:Saturday Evening Worship,Worship
END:VEVENT
BEGIN:VEVENT
DTSTART;TZID=America/New_York:20250305T090000
DTEND;TZID=America/New_York:20250305T100000
DTSTAMP:20260419T181448
CREATED:20171102T131929Z
LAST-MODIFIED:20171102T131929Z
UID:11327-1741165200-1741168800@www.shavertownumc.com
SUMMARY:Prayer Group on Zoom
DESCRIPTION:
URL:https://www.shavertownumc.com/event/prayer-meeting-2025-03-05/
LOCATION:PA
END:VEVENT
BEGIN:VEVENT
DTSTART;TZID=America/New_York:20250304T100000
DTEND;TZID=America/New_York:20250304T110000
DTSTAMP:20260419T181448
CREATED:20171102T130534Z
LAST-MODIFIED:20171102T130534Z
UID:11325-1741082400-1741086000@www.shavertownumc.com
SUMMARY:Coffee and Conversation
DESCRIPTION:
URL:https://www.shavertownumc.com/event/coffee-and-conversation-2020-05-12-2025-03-04/
LOCATION:Shavertown United Methodist Church\, 163 N. Pioneer Avenue\, Shavertown\, PA\, 18708\, United States
CATEGORIES:Mission & Outreach
END:VEVENT
BEGIN:VEVENT
DTSTART;TZID=America/New_York:20250303T130000
DTEND;TZID=America/New_York:20250303T140000
DTSTAMP:20260419T181448
CREATED:20171102T140142Z
LAST-MODIFIED:20171102T140142Z
UID:11324-1741006800-1741010400@www.shavertownumc.com
SUMMARY:Women's Bible Study
DESCRIPTION:
URL:https://www.shavertownumc.com/event/womens-bible-study-2020-05-11-2025-03-03/
LOCATION:Shavertown United Methodist Church\, 163 N. Pioneer Avenue\, Shavertown\, PA\, 18708\, United States
CATEGORIES:Bible Study
END:VEVENT
BEGIN:VEVENT
DTSTART;TZID=America/New_York:20250302T093000
DTEND;TZID=America/New_York:20250302T103000
DTSTAMP:20260419T181448
CREATED:20171102T131100Z
LAST-MODIFIED:20171102T131100Z
UID:11323-1740907800-1740911400@www.shavertownumc.com
SUMMARY:Worship
DESCRIPTION:Worship Service \nIf you are looking for a church home\, we invite you to join us for our Sunday morning worship at 9:30 a.m.
URL:https://www.shavertownumc.com/event/worship-2-2025-03-02/
LOCATION:Shavertown United Methodist Church\, 163 N. Pioneer Avenue\, Shavertown\, PA\, 18708\, United States
CATEGORIES:Sunday Morning Worship,Worship
END:VEVENT
BEGIN:VEVENT
DTSTART;TZID=UTC:20250301T173000
DTEND;TZID=UTC:20250301T183000
DTSTAMP:20260419T181448
CREATED:20171102T003157Z
LAST-MODIFIED:20171102T003157Z
UID:11293-1740850200-1740853800@www.shavertownumc.com
SUMMARY:Worship
DESCRIPTION:Informal Worship Service \nIf you are looking for a church home\, we invite you to join us for our informal worship service Saturdays at 5:30 p.m.
URL:https://www.shavertownumc.com/event/worship-2025-03-01/
LOCATION:Shavertown United Methodist Church\, 163 N. Pioneer Avenue\, Shavertown\, PA\, 18708\, United States
CATEGORIES:Saturday Evening Worship,Worship
END:VEVENT
BEGIN:VEVENT
DTSTART;TZID=America/New_York:20250226T090000
DTEND;TZID=America/New_York:20250226T100000
DTSTAMP:20260419T181448
CREATED:20171102T131929Z
LAST-MODIFIED:20171102T131929Z
UID:11286-1740560400-1740564000@www.shavertownumc.com
SUMMARY:Prayer Group on Zoom
DESCRIPTION:
URL:https://www.shavertownumc.com/event/prayer-meeting-2025-02-26/
LOCATION:PA
END:VEVENT
BEGIN:VEVENT
DTSTART;TZID=America/New_York:20250225T100000
DTEND;TZID=America/New_York:20250225T110000
DTSTAMP:20260419T181448
CREATED:20171102T130534Z
LAST-MODIFIED:20171102T130534Z
UID:11284-1740477600-1740481200@www.shavertownumc.com
SUMMARY:Coffee and Conversation
DESCRIPTION:
URL:https://www.shavertownumc.com/event/coffee-and-conversation-2020-05-12-2025-02-25/
LOCATION:Shavertown United Methodist Church\, 163 N. Pioneer Avenue\, Shavertown\, PA\, 18708\, United States
CATEGORIES:Mission & Outreach
END:VEVENT
BEGIN:VEVENT
DTSTART;TZID=America/New_York:20250224T130000
DTEND;TZID=America/New_York:20250224T140000
DTSTAMP:20260419T181448
CREATED:20171102T140142Z
LAST-MODIFIED:20171102T140142Z
UID:11283-1740402000-1740405600@www.shavertownumc.com
SUMMARY:Women's Bible Study
DESCRIPTION:
URL:https://www.shavertownumc.com/event/womens-bible-study-2020-05-11-2025-02-24/
LOCATION:Shavertown United Methodist Church\, 163 N. Pioneer Avenue\, Shavertown\, PA\, 18708\, United States
CATEGORIES:Bible Study
END:VEVENT
BEGIN:VEVENT
DTSTART;TZID=America/New_York:20250223T093000
DTEND;TZID=America/New_York:20250223T103000
DTSTAMP:20260419T181448
CREATED:20171102T131100Z
LAST-MODIFIED:20171102T131100Z
UID:11282-1740303000-1740306600@www.shavertownumc.com
SUMMARY:Worship
DESCRIPTION:Worship Service \nIf you are looking for a church home\, we invite you to join us for our Sunday morning worship at 9:30 a.m.
URL:https://www.shavertownumc.com/event/worship-2-2025-02-23/
LOCATION:Shavertown United Methodist Church\, 163 N. Pioneer Avenue\, Shavertown\, PA\, 18708\, United States
CATEGORIES:Sunday Morning Worship,Worship
END:VEVENT
BEGIN:VEVENT
DTSTART;TZID=UTC:20250222T173000
DTEND;TZID=UTC:20250222T183000
DTSTAMP:20260419T181448
CREATED:20171102T003157Z
LAST-MODIFIED:20171102T003157Z
UID:11272-1740245400-1740249000@www.shavertownumc.com
SUMMARY:Worship
DESCRIPTION:Informal Worship Service \nIf you are looking for a church home\, we invite you to join us for our informal worship service Saturdays at 5:30 p.m.
URL:https://www.shavertownumc.com/event/worship-2025-02-22/
LOCATION:Shavertown United Methodist Church\, 163 N. Pioneer Avenue\, Shavertown\, PA\, 18708\, United States
CATEGORIES:Saturday Evening Worship,Worship
END:VEVENT
BEGIN:VEVENT
DTSTART;TZID=America/New_York:20250219T090000
DTEND;TZID=America/New_York:20250219T100000
DTSTAMP:20260419T181448
CREATED:20171102T131929Z
LAST-MODIFIED:20171102T131929Z
UID:11269-1739955600-1739959200@www.shavertownumc.com
SUMMARY:Prayer Group on Zoom
DESCRIPTION:
URL:https://www.shavertownumc.com/event/prayer-meeting-2025-02-19/
LOCATION:PA
END:VEVENT
BEGIN:VEVENT
DTSTART;TZID=America/New_York:20250218T100000
DTEND;TZID=America/New_York:20250218T110000
DTSTAMP:20260419T181448
CREATED:20171102T130534Z
LAST-MODIFIED:20171102T130534Z
UID:11267-1739872800-1739876400@www.shavertownumc.com
SUMMARY:Coffee and Conversation
DESCRIPTION:
URL:https://www.shavertownumc.com/event/coffee-and-conversation-2020-05-12-2025-02-18/
LOCATION:Shavertown United Methodist Church\, 163 N. Pioneer Avenue\, Shavertown\, PA\, 18708\, United States
CATEGORIES:Mission & Outreach
END:VEVENT
BEGIN:VEVENT
DTSTART;TZID=America/New_York:20250217T130000
DTEND;TZID=America/New_York:20250217T140000
DTSTAMP:20260419T181448
CREATED:20171102T140142Z
LAST-MODIFIED:20171102T140142Z
UID:11257-1739797200-1739800800@www.shavertownumc.com
SUMMARY:Women's Bible Study
DESCRIPTION:
URL:https://www.shavertownumc.com/event/womens-bible-study-2020-05-11-2025-02-17/
LOCATION:Shavertown United Methodist Church\, 163 N. Pioneer Avenue\, Shavertown\, PA\, 18708\, United States
CATEGORIES:Bible Study
END:VEVENT
BEGIN:VEVENT
DTSTART;TZID=America/New_York:20250216T093000
DTEND;TZID=America/New_York:20250216T103000
DTSTAMP:20260419T181448
CREATED:20171102T131100Z
LAST-MODIFIED:20171102T131100Z
UID:11256-1739698200-1739701800@www.shavertownumc.com
SUMMARY:Worship
DESCRIPTION:Worship Service \nIf you are looking for a church home\, we invite you to join us for our Sunday morning worship at 9:30 a.m.
URL:https://www.shavertownumc.com/event/worship-2-2025-02-16/
LOCATION:Shavertown United Methodist Church\, 163 N. Pioneer Avenue\, Shavertown\, PA\, 18708\, United States
CATEGORIES:Sunday Morning Worship,Worship
END:VEVENT
BEGIN:VEVENT
DTSTART;TZID=UTC:20250215T173000
DTEND;TZID=UTC:20250215T183000
DTSTAMP:20260419T181448
CREATED:20171102T003157Z
LAST-MODIFIED:20171102T003157Z
UID:11255-1739640600-1739644200@www.shavertownumc.com
SUMMARY:Worship
DESCRIPTION:Informal Worship Service \nIf you are looking for a church home\, we invite you to join us for our informal worship service Saturdays at 5:30 p.m.
URL:https://www.shavertownumc.com/event/worship-2025-02-15/
LOCATION:Shavertown United Methodist Church\, 163 N. Pioneer Avenue\, Shavertown\, PA\, 18708\, United States
CATEGORIES:Saturday Evening Worship,Worship
END:VEVENT
BEGIN:VEVENT
DTSTART;TZID=America/New_York:20250212T090000
DTEND;TZID=America/New_York:20250212T100000
DTSTAMP:20260419T181448
CREATED:20171102T131929Z
LAST-MODIFIED:20171102T131929Z
UID:11254-1739350800-1739354400@www.shavertownumc.com
SUMMARY:Prayer Group on Zoom
DESCRIPTION:
URL:https://www.shavertownumc.com/event/prayer-meeting-2025-02-12/
LOCATION:PA
END:VEVENT
BEGIN:VEVENT
DTSTART;TZID=America/New_York:20250211T100000
DTEND;TZID=America/New_York:20250211T110000
DTSTAMP:20260419T181448
CREATED:20171102T130534Z
LAST-MODIFIED:20171102T130534Z
UID:11252-1739268000-1739271600@www.shavertownumc.com
SUMMARY:Coffee and Conversation
DESCRIPTION:
URL:https://www.shavertownumc.com/event/coffee-and-conversation-2020-05-12-2025-02-11/
LOCATION:Shavertown United Methodist Church\, 163 N. Pioneer Avenue\, Shavertown\, PA\, 18708\, United States
CATEGORIES:Mission & Outreach
END:VEVENT
END:VCALENDAR